BEGIN:VCALENDAR
VERSION:2.0
PRODID:-//Medicina Fetal Vall d'Hebron Barcelona - ECPv6.2.9//NONSGML v1.0//EN
CALSCALE:GREGORIAN
METHOD:PUBLISH
X-WR-CALNAME:Medicina Fetal Vall d'Hebron Barcelona
X-ORIGINAL-URL:https://www.medfetal.org/ca/
X-WR-CALDESC:Events for Medicina Fetal Vall d'Hebron Barcelona
REFRESH-INTERVAL;VALUE=DURATION:PT1H
X-Robots-Tag:noindex
X-PUBLISHED-TTL:PT1H
BEGIN:VTIMEZONE
TZID:Europe/Paris
BEGIN:DAYLIGHT
TZOFFSETFROM:+0100
TZOFFSETTO:+0200
TZNAME:CEST
DTSTART:20190331T010000
END:DAYLIGHT
BEGIN:STANDARD
TZOFFSETFROM:+0200
TZOFFSETTO:+0100
TZNAME:CET
DTSTART:20191027T010000
END:STANDARD
END:VTIMEZONE
BEGIN:VEVENT
DTSTART;VALUE=DATE:20190228
DTEND;VALUE=DATE:20190301
DTSTAMP:20260423T175745
CREATED:20181205T172940Z
LAST-MODIFIED:20181215T212949Z
UID:822-1551312000-1551398399@www.medfetal.org
SUMMARY:CURSO DE CARDIOLOGÍA FETAL
DESCRIPTION:Objetivos del Curso:  \n• Adquirir conocimientos para el diagnóstico ecográfico de las patologías más prevalentes del corazón fetal \n• Adquirir conceptos avanzados de fisiopatología cardiaca pre y postnatal • Adquirir conocimientos para el abordaje multidisciplinar de las patologías más prevalentes del corazón fetal \n• Puesta en práctica de los conocimientos adquiridos mediante casos clínicos \n• Aprendizaje en directo de la valoración del corazón fetal en el taller práctico \nDirigido a:  \nCualquier profesional con interés por la Cardiología en etapa prenatal: Obstetras y residentes de Obstetricia\, cardiólogos pediátricos\, neonatólogos\, pediatras y residentes de Pediatría\, cirujanos cardiacos\, personal sanitario en contacto con niños con cardiopatía congénita.
URL:https://www.medfetal.org/ca/event/curso-de-cardiologia-fetal/
LOCATION:Hospital Vall Hebron\, Passeig de la Vall d’Hebron 119-129\, Barcelona\, Barcelona\, 08035\, España
ORGANIZER;CN="Aula Vall d'Hebron":MAILTO:inscripcions@aulavallhebron.cat
END:VEVENT
END:VCALENDAR