BEGIN:VCALENDAR
VERSION:2.0
PRODID:-//Medicina Fetal Vall d'Hebron Barcelona - ECPv6.2.9//NONSGML v1.0//EN
CALSCALE:GREGORIAN
METHOD:PUBLISH
X-WR-CALNAME:Medicina Fetal Vall d'Hebron Barcelona
X-ORIGINAL-URL:https://www.medfetal.org/ca/
X-WR-CALDESC:Events for Medicina Fetal Vall d'Hebron Barcelona
REFRESH-INTERVAL;VALUE=DURATION:PT1H
X-Robots-Tag:noindex
X-PUBLISHED-TTL:PT1H
BEGIN:VTIMEZONE
TZID:Europe/Paris
BEGIN:DAYLIGHT
TZOFFSETFROM:+0100
TZOFFSETTO:+0200
TZNAME:CEST
DTSTART:20200329T010000
END:DAYLIGHT
BEGIN:STANDARD
TZOFFSETFROM:+0200
TZOFFSETTO:+0100
TZNAME:CET
DTSTART:20201025T010000
END:STANDARD
END:VTIMEZONE
BEGIN:VEVENT
DTSTART;VALUE=DATE:20201103
DTEND;VALUE=DATE:20201127
DTSTAMP:20260422T123718
CREATED:20201026T183219Z
LAST-MODIFIED:20201026T183219Z
UID:1131-1604361600-1606435199@www.medfetal.org
SUMMARY:ADOLESCENCIA: I CURSO DE GINECOLOGÍA Y ENDOCRINOLOGÍA
DESCRIPTION:Objetivos: \n\nActualizar las herramientas de la anamnesis y la exploración física de la paciente adolescente\nActualización de las bases fisiológicas de la pubertad y sus trastornos\nActualización del diagnóstico y tratamiento del hipogonadismo femenino\nRevisión de la fisiología del ciclo menstrual y sus trastornos más prevalentes\nActualización del diagnóstico y tratamiento del hiperandrogenismo femenino\nMejorar los conocimientos de la educación sexual femenina y de la prevención y tratamiento de las enfermedades de transmisión sexual\nRevisión de los métodos anticonceptivos y del embarazo no deseado\nActualización de las técnicas de la preservación de la fertilidad femenina dirigidas a las pacientes adolescentes\nProporcionar un protocolo de actuación frente a las violencias sexuales en la infancia y adolescencia\n\n  \nAcreditación:Solicitada la acreditación al Consell Català de la Formació Continuada de les Professions Sanitàries – Comisión de Formación Continuada del Sistema Nacional de Salud.
URL:https://www.medfetal.org/ca/event/adolescencia-i-curso-de-ginecologia-y-endocrinologia/
LOCATION:Hospital Vall Hebron\, Passeig de la Vall d’Hebron 119-129\, Barcelona\, Barcelona\, 08035\, España
ORGANIZER;CN="Aula Vall d'Hebron":MAILTO:inscripcions@aulavallhebron.cat
END:VEVENT
BEGIN:VEVENT
DTSTART;TZID=Europe/Paris:20201124T160000
DTEND;TZID=Europe/Paris:20201125T190000
DTSTAMP:20260422T123718
CREATED:20200303T105629Z
LAST-MODIFIED:20201026T183644Z
UID:908-1606233600-1606330800@www.medfetal.org
SUMMARY:PREMATURIDAD: DEBATE\, CASOS PRÁCTICOS Y SIMULACIÓN
DESCRIPTION:SAVE THE DATE!!!\n \nBloque 1: Epidemiología\, predicción y cribado del parto pretérmino \nBloque 2: Estrategias de prevención del parto pretérmino \nBloque 3: Prevención terciaria del parto pretérmino y visión del neonatólogo \n  \nPROGRAMA\n  \nPonentes confirmados: \nDra. Maia Brik\, Dra. Tere Cobo\, Dra. María Goya\, Dra. Nerea Maíz\, Dra. Chays Maninchach\, Dra. Montse Palacio\, Dr. César Ruiz\, Dra. Anna Suy\, Dra. Mireia Vargas
URL:https://www.medfetal.org/ca/event/prematuridad-debate-casos-practicos-y-simulacion/
LOCATION:Hospital Vall Hebron\, Passeig de la Vall d’Hebron 119-129\, Barcelona\, Barcelona\, 08035\, España
ORGANIZER;CN="Aula Vall d'Hebron":MAILTO:inscripcions@aulavallhebron.cat
END:VEVENT
END:VCALENDAR