BEGIN:VCALENDAR
VERSION:2.0
PRODID:-//Medicina Fetal Vall d'Hebron Barcelona - ECPv6.2.9//NONSGML v1.0//EN
CALSCALE:GREGORIAN
METHOD:PUBLISH
X-ORIGINAL-URL:https://www.medfetal.org/ca/
X-WR-CALDESC:Events for Medicina Fetal Vall d'Hebron Barcelona
REFRESH-INTERVAL;VALUE=DURATION:PT1H
X-Robots-Tag:noindex
X-PUBLISHED-TTL:PT1H
BEGIN:VTIMEZONE
TZID:Europe/Paris
BEGIN:DAYLIGHT
TZOFFSETFROM:+0100
TZOFFSETTO:+0200
TZNAME:CEST
DTSTART:20180325T010000
END:DAYLIGHT
BEGIN:STANDARD
TZOFFSETFROM:+0200
TZOFFSETTO:+0100
TZNAME:CET
DTSTART:20181028T010000
END:STANDARD
END:VTIMEZONE
BEGIN:VEVENT
DTSTART;VALUE=DATE:20180503
DTEND;VALUE=DATE:20180505
DTSTAMP:20260424T064607
CREATED:20180127T132516Z
LAST-MODIFIED:20180314T134938Z
UID:646-1525305600-1525478399@www.medfetal.org
SUMMARY:INSUFICIENCIA PLACENTARIA Y PREMATURIDAD
DESCRIPTION:CURSO MEDFETAL DE INSUFICIENCIA PLACENTARIA Y PREMATURIDAD \nEl 80% de las gestantes ingresadas en las Unidades de Alto Riesgo Obstétrico y el 70% de los neonatos ingresados en las Unidades de Cuidados Intensivos Neonatales son consecuencia de dos grandes problemas obstétricos: la insuficiencia placentaria y el parto pretérmino. El conocimiento de su fisiopatología\, las herramientas de predicción y los tratamientos preventivos están mejorando de forma importante en los últimos años. \nEl principal objetivo del curso es la actualización de los conocimientos actuales y su integración en la práctica clínica diaria basada en la evidencia. \nEn el curso se dedicará especial atención a los casos clínicos y a la utilización de demostraciones en vivo para explicar la aplicación de las herramientas ecográficas de las que se disponen para el cribado y manejo de estos casos. \nINSCRIPCIONES EN http://www.aulavhebron.net/aula/?go=inscripcion&curso=114
URL:https://www.medfetal.org/ca/event/insuficiencia-placentaria-prematuridad/
LOCATION:Hospital Vall Hebron\, Passeig de la Vall d’Hebron 119-129\, Barcelona\, Barcelona\, 08035\, España
ORGANIZER;CN="Aula Vall d'Hebron":MAILTO:inscripcions@aulavallhebron.cat
END:VEVENT
END:VCALENDAR