BEGIN:VCALENDAR
VERSION:2.0
PRODID:-//Medicina Fetal Vall d'Hebron Barcelona - ECPv6.2.9//NONSGML v1.0//EN
CALSCALE:GREGORIAN
METHOD:PUBLISH
X-WR-CALNAME:Medicina Fetal Vall d'Hebron Barcelona
X-ORIGINAL-URL:https://www.medfetal.org/ca/
X-WR-CALDESC:Events for Medicina Fetal Vall d'Hebron Barcelona
REFRESH-INTERVAL;VALUE=DURATION:PT1H
X-Robots-Tag:noindex
X-PUBLISHED-TTL:PT1H
BEGIN:VTIMEZONE
TZID:Europe/Paris
BEGIN:DAYLIGHT
TZOFFSETFROM:+0100
TZOFFSETTO:+0200
TZNAME:CEST
DTSTART:20200329T010000
END:DAYLIGHT
BEGIN:STANDARD
TZOFFSETFROM:+0200
TZOFFSETTO:+0100
TZNAME:CET
DTSTART:20201025T010000
END:STANDARD
END:VTIMEZONE
BEGIN:VEVENT
DTSTART;VALUE=DATE:20200121
DTEND;VALUE=DATE:20200125
DTSTAMP:20260423T014924
CREATED:20190709T110729Z
LAST-MODIFIED:20190709T110729Z
UID:890-1579564800-1579910399@www.medfetal.org
SUMMARY:ECOGRAFÍA OBSTÉTRICO-GINECOLÓGICA
DESCRIPTION:Guarda la fecha!\nEn breve colgaremos el programa
URL:https://www.medfetal.org/ca/event/ecografia-obstetrico-ginecologica-2/
LOCATION:Hospital Vall Hebron\, Passeig de la Vall d’Hebron 119-129\, Barcelona\, Barcelona\, 08035\, España
ORGANIZER;CN="Aula Vall d'Hebron":MAILTO:inscripcions@aulavallhebron.cat
END:VEVENT
END:VCALENDAR